BEGIN:VCALENDAR
PRODID:-//eluceo/ical//2.0/EN
VERSION:2.0
CALSCALE:GREGORIAN
BEGIN:VEVENT
UID:event-194
DTSTAMP:20260422T141058Z
SUMMARY:DV Merchandise: DV Socks (Pre-Order)
DESCRIPTION:The merch committee happily introduces a new product: DV socks!
   You can get a pair for €10.95. This time\, you can pre-order the sock
 s via the website! Feel free to order multiple pairs\, so you always have 
 a spare pair when the other is in the washing machine \;).
DTSTART:20260421T220000Z
DTEND:20260625T215900Z
END:VEVENT
BEGIN:VTIMEZONE
TZID:UTC
BEGIN:STANDARD
DTSTART:20260421T220000
TZNAME:UTC
TZOFFSETTO:+0000
TZOFFSETFROM:+0000
END:STANDARD
END:VTIMEZONE
END:VCALENDAR
